<?xml version="1.0" encoding="UTF-8" standalone="no"?>
<metadata xml:lang="en">
<Esri>
<CreaDate>20151217</CreaDate>
<CreaTime>08522000</CreaTime>
<ArcGISFormat>1.0</ArcGISFormat>
<SyncOnce>FALSE</SyncOnce>
<DataProperties>
<lineage>
<Process Date="20151217" Time="085220" ToolSource="c:\program files (x86)\arcgis\desktop10.2\ArcToolbox\Toolboxes\Data Management Tools.tbx\ChangePrivileges">ChangePrivileges 'Database Connections\CRAVEN_RASTER.sde\craven_raster.CRAVEN.CravenSeal';'Database Connections\CRAVEN_RASTER.sde\craven_raster.CRAVEN.DRGs';'Database Connections\CRAVEN_RASTER.sde\craven_raster.CRAVEN.ELEVATION_NED';'Database Connections\CRAVEN_RASTER.sde\craven_raster.CRAVEN.NAIP_2010';'Database Connections\CRAVEN_RASTER.sde\craven_raster.CRAVEN.NAIP_2012';'Database Connections\CRAVEN_RASTER.sde\craven_raster.CRAVEN.NC';'Database Connections\CRAVEN_RASTER.sde\craven_raster.CRAVEN.orthos_1999_100';'Database Connections\CRAVEN_RASTER.sde\craven_raster.CRAVEN.orthos_1999_200';'Database Connections\CRAVEN_RASTER.sde\craven_raster.CRAVEN.orthos_1999_400';'Database Connections\CRAVEN_RASTER.sde\craven_raster.CRAVEN.orthos_2007';'Database Connections\CRAVEN_RASTER.sde\craven_raster.CRAVEN.orthos_2010';'Database Connections\CRAVEN_RASTER.sde\craven_raster.CRAVEN.orthos_2012';'Database Connections\CRAVEN_RASTER.sde\craven_raster.CRAVEN.orthos_2014_4_inch';'Database Connections\CRAVEN_RASTER.sde\craven_raster.CRAVEN.orthos_2014_9_inch';'Database Connections\CRAVEN_RASTER.sde\craven_raster.CRAVEN.US' ortho_viewer REVOKE REVOKE</Process>
<Process Date="20151217" Time="085545" ToolSource="c:\program files (x86)\arcgis\desktop10.2\ArcToolbox\Toolboxes\Data Management Tools.tbx\ChangePrivileges">ChangePrivileges 'Database Connections\CRAVEN_RASTER.sde\craven_raster.CRAVEN.DRGs';'Database Connections\CRAVEN_RASTER.sde\craven_raster.CRAVEN.ELEVATION_NED';'Database Connections\CRAVEN_RASTER.sde\craven_raster.CRAVEN.NAIP_2010';'Database Connections\CRAVEN_RASTER.sde\craven_raster.CRAVEN.NAIP_2012';'Database Connections\CRAVEN_RASTER.sde\craven_raster.CRAVEN.orthos_1999_100';'Database Connections\CRAVEN_RASTER.sde\craven_raster.CRAVEN.orthos_1999_200';'Database Connections\CRAVEN_RASTER.sde\craven_raster.CRAVEN.orthos_1999_400';'Database Connections\CRAVEN_RASTER.sde\craven_raster.CRAVEN.orthos_2007';'Database Connections\CRAVEN_RASTER.sde\craven_raster.CRAVEN.orthos_2010';'Database Connections\CRAVEN_RASTER.sde\craven_raster.CRAVEN.orthos_2012';'Database Connections\CRAVEN_RASTER.sde\craven_raster.CRAVEN.orthos_2014_4_inch';'Database Connections\CRAVEN_RASTER.sde\craven_raster.CRAVEN.orthos_2014_9_inch' sde_viewer GRANT AS_IS</Process>
</lineage>
<itemProps>
<itemName Sync="TRUE">craven_raster.CRAVEN.ELEVATION_NED</itemName>
<itemLocation>
<linkage Sync="TRUE">Server=gis-db; Service=sde:sqlserver:gis-db; Database=craven_raster; User=craven; Version=dbo.DEFAULT</linkage>
<protocol Sync="TRUE">ArcSDE Connection</protocol>
</itemLocation>
<nativeExtBox>
<westBL Sync="TRUE">-77.500022</westBL>
<eastBL Sync="TRUE">-76.499997</eastBL>
<southBL Sync="TRUE">34.499988</southBL>
<northBL Sync="TRUE">35.500012</northBL>
<exTypeCode Sync="TRUE">1</exTypeCode>
</nativeExtBox>
</itemProps>
<coordRef>
<type Sync="TRUE">Geographic</type>
<geogcsn Sync="TRUE">GCS_North_American_1983</geogcsn>
<csUnits Sync="TRUE">Angular Unit: Degree (0.017453)</csUnits>
<peXml Sync="TRUE">&lt;GeographicCoordinateSystem xsi:type='typens:GeographicCoordinateSystem' xmlns:xsi='http://www.w3.org/2001/XMLSchema-instance' xmlns:xs='http://www.w3.org/2001/XMLSchema' xmlns:typens='http://www.esri.com/schemas/ArcGIS/10.7'&gt;&lt;WKT&gt;GEOGCS[&amp;quot;GCS_North_American_1983&amp;quot;,DATUM[&amp;quot;D_North_American_1983&amp;quot;,SPHEROID[&amp;quot;GRS_1980&amp;quot;,6378137.0,298.257222101]],PRIMEM[&amp;quot;Greenwich&amp;quot;,0.0],UNIT[&amp;quot;Degree&amp;quot;,0.0174532925199433],AUTHORITY[&amp;quot;EPSG&amp;quot;,4269]]&lt;/WKT&gt;&lt;XOrigin&gt;-400&lt;/XOrigin&gt;&lt;YOrigin&gt;-400&lt;/YOrigin&gt;&lt;XYScale&gt;11258999068426.238&lt;/XYScale&gt;&lt;ZOrigin&gt;-100000&lt;/ZOrigin&gt;&lt;ZScale&gt;10000&lt;/ZScale&gt;&lt;MOrigin&gt;-100000&lt;/MOrigin&gt;&lt;MScale&gt;10000&lt;/MScale&gt;&lt;XYTolerance&gt;8.9831528411952133e-09&lt;/XYTolerance&gt;&lt;ZTolerance&gt;0.001&lt;/ZTolerance&gt;&lt;MTolerance&gt;0.001&lt;/MTolerance&gt;&lt;HighPrecision&gt;true&lt;/HighPrecision&gt;&lt;LeftLongitude&gt;-180&lt;/LeftLongitude&gt;&lt;WKID&gt;4269&lt;/WKID&gt;&lt;LatestWKID&gt;4269&lt;/LatestWKID&gt;&lt;/GeographicCoordinateSystem&gt;</peXml>
</coordRef>
<RasterProperties>
<General>
<PixelDepth Sync="TRUE">32</PixelDepth>
<HasColormap Sync="TRUE">FALSE</HasColormap>
<CompressionType Sync="TRUE">None</CompressionType>
<NumBands Sync="TRUE">1</NumBands>
<Format Sync="TRUE">AMD</Format>
<HasPyramids Sync="TRUE">TRUE</HasPyramids>
<SourceType Sync="TRUE">continuous</SourceType>
<PixelType Sync="TRUE">floating point</PixelType>
<NoDataValue Sync="TRUE"/>
</General>
<Properties>
<MaxImageHeight Sync="TRUE">4100</MaxImageHeight>
<MaxImageWidth Sync="TRUE">15000</MaxImageWidth>
<MaxRecordCount Sync="TRUE">1000</MaxRecordCount>
<MaxDownloadImageCount Sync="TRUE">20</MaxDownloadImageCount>
<MaxDownloadSizeLimit Sync="TRUE">2048</MaxDownloadSizeLimit>
<MaxMosaicImageCount Sync="TRUE">20</MaxMosaicImageCount>
<DefaultCompressionQuality Sync="TRUE">75</DefaultCompressionQuality>
<DefaultCompressionTolerance Sync="TRUE">0.01</DefaultCompressionTolerance>
<BlendWidth Sync="TRUE">10</BlendWidth>
<ViewpointSpacingX Sync="TRUE">600</ViewpointSpacingX>
<ViewpointSpacingY Sync="TRUE">300</ViewpointSpacingY>
<AllowedItemMetadata Sync="TRUE">Basic</AllowedItemMetadata>
<DefaultResamplingMethod Sync="TRUE">1</DefaultResamplingMethod>
<AllowedMosaicMethods Sync="TRUE">NorthWest,Center,LockRaster,ByAttribute,Nadir,Viewpoint,Seamline,None</AllowedMosaicMethods>
<AllowedCompressions Sync="TRUE">None,JPEG,LZ77,LERC</AllowedCompressions>
<AllowedMensurationCapabilities Sync="TRUE">Basic</AllowedMensurationCapabilities>
<AvailableMensurationCapabilities Sync="TRUE">None,Basic,Base-Top Height,Top-Top Shadow Height,Base-Top Shadow Height,3D</AvailableMensurationCapabilities>
<ClipToBoundary Sync="TRUE">-1</ClipToBoundary>
<FootprintMayContainNoData Sync="TRUE">-1</FootprintMayContainNoData>
<CellSizeTolerance Sync="TRUE">0.8</CellSizeTolerance>
<MinimumPixelContribution Sync="TRUE">1</MinimumPixelContribution>
<AvailableMosaicMethods Sync="TRUE">NorthWest,Center,LockRaster,ByAttribute,Nadir,Viewpoint,Seamline,None</AvailableMosaicMethods>
<AvailableCompressionMethods Sync="TRUE">None,JPEG,LZ77,LERC</AvailableCompressionMethods>
<AvailableItemMetadataLevels Sync="TRUE">None,Basic,Full</AvailableItemMetadataLevels>
<ConfigKeyword Sync="TRUE"/>
<BandDefinitionKeyword Sync="TRUE">NONE</BandDefinitionKeyword>
<AllowedFields Sync="TRUE">Name,MinPS,MaxPS,LowPS,HighPS,Tag,GroupName,ProductName,CenterX,CenterY,ZOrder,Shape.STArea(),Shape.STLength()</AllowedFields>
<MaxCellSize Sync="TRUE">0.3749976</MaxCellSize>
<LowCellSize Sync="TRUE">0.000030864</LowCellSize>
<HighCellSize Sync="TRUE">0.007499952</HighCellSize>
<ApplyColorCorrection Sync="TRUE">0</ApplyColorCorrection>
<_docversion_ Sync="TRUE">9</_docversion_>
</Properties>
<Functions Sync="TRUE">
<Function Description="Performs on-the-fly mosaic on a raster catalog." Name="Mosaic Function"/>
</Functions>
</RasterProperties>
</DataProperties>
<SyncDate>20201103</SyncDate>
<SyncTime>16445400</SyncTime>
<ModDate>20201103</ModDate>
<ModTime>16445400</ModTime>
</Esri>
<dataIdInfo>
<envirDesc Sync="TRUE"> Version 6.2 (Build 9200) ; Esri ArcGIS 10.7.1.11595</envirDesc>
<dataLang>
<languageCode Sync="TRUE" value="eng"/>
<countryCode Sync="TRUE" value="USA"/>
</dataLang>
<idCitation>
<resTitle Sync="TRUE">NED</resTitle>
<presForm>
<PresFormCd Sync="TRUE" value="005"/>
</presForm>
</idCitation>
<spatRpType>
<SpatRepTypCd Sync="TRUE" value="002"/>
</spatRpType>
<dataExt>
<geoEle>
<GeoBndBox esriExtentType="search">
<exTypeCode Sync="TRUE">1</exTypeCode>
<westBL Sync="TRUE">-77.500022</westBL>
<eastBL Sync="TRUE">-76.499997</eastBL>
<northBL Sync="TRUE">35.500012</northBL>
<southBL Sync="TRUE">34.499988</southBL>
</GeoBndBox>
</geoEle>
</dataExt>
<idAbs/>
<searchKeys>
<keyword>Imagery</keyword>
</searchKeys>
<idPurp>Elevation Data</idPurp>
<idCredit/>
<resConst>
<Consts>
<useLimit/>
</Consts>
</resConst>
</dataIdInfo>
<mdLang>
<languageCode Sync="TRUE" value="eng"/>
<countryCode Sync="TRUE" value="USA"/>
</mdLang>
<refSysInfo>
<RefSystem>
<refSysID>
<identCode Sync="TRUE" code="4269"/>
<idCodeSpace Sync="TRUE">EPSG</idCodeSpace>
<idVersion Sync="TRUE">6.12(3.0.1)</idVersion>
</refSysID>
</RefSystem>
</refSysInfo>
<spatRepInfo>
<Georect>
<cellGeo>
<CellGeoCd Sync="TRUE" value="002"/>
</cellGeo>
<numDims Sync="TRUE">2</numDims>
<tranParaAv Sync="TRUE">1</tranParaAv>
<chkPtAv Sync="TRUE">0</chkPtAv>
<cornerPts>
<pos Sync="TRUE">-77.500022 34.499988</pos>
</cornerPts>
<cornerPts>
<pos Sync="TRUE">-77.500022 35.500012</pos>
</cornerPts>
<cornerPts>
<pos Sync="TRUE">-76.499997 35.500012</pos>
</cornerPts>
<cornerPts>
<pos Sync="TRUE">-76.499997 34.499988</pos>
</cornerPts>
<centerPt>
<pos Sync="TRUE">-77.000009 35.000000</pos>
</centerPt>
<axisDimension type="002">
<dimSize Sync="TRUE">32401</dimSize>
<dimResol>
<value Sync="TRUE" uom="deg">0.000031</value>
</dimResol>
</axisDimension>
<axisDimension type="001">
<dimSize Sync="TRUE">32401</dimSize>
<dimResol>
<value Sync="TRUE" uom="deg">0.000031</value>
</dimResol>
</axisDimension>
<ptInPixel>
<PixOrientCd Sync="TRUE" value="001"/>
</ptInPixel>
</Georect>
</spatRepInfo>
<contInfo>
<ImgDesc>
<contentTyp>
<ContentTypCd Sync="TRUE" value="001"/>
</contentTyp>
<covDim>
<Band>
<dimDescrp Sync="TRUE">Band_1</dimDescrp>
<maxVal Sync="TRUE">41.265636</maxVal>
<minVal Sync="TRUE">0.000000</minVal>
<bitsPerVal Sync="TRUE">32</bitsPerVal>
<valUnit>
<UOM type="length"/>
</valUnit>
</Band>
</covDim>
</ImgDesc>
</contInfo>
<mdDateSt Sync="TRUE">20201103</mdDateSt>
</metadata>
